BEGIN:VCALENDAR
VERSION:2.0
PRODID:-//Mississippi Poultry Association - ECPv6.15.20//NONSGML v1.0//EN
CALSCALE:GREGORIAN
METHOD:PUBLISH
X-WR-CALNAME:Mississippi Poultry Association
X-ORIGINAL-URL:https://www.mspoultry.org
X-WR-CALDESC:Events for Mississippi Poultry Association
REFRESH-INTERVAL;VALUE=DURATION:PT1H
X-Robots-Tag:noindex
X-PUBLISHED-TTL:PT1H
BEGIN:VTIMEZONE
TZID:America/New_York
BEGIN:DAYLIGHT
TZOFFSETFROM:-0500
TZOFFSETTO:-0400
TZNAME:EDT
DTSTART:20250309T070000
END:DAYLIGHT
BEGIN:STANDARD
TZOFFSETFROM:-0400
TZOFFSETTO:-0500
TZNAME:EST
DTSTART:20251102T060000
END:STANDARD
BEGIN:DAYLIGHT
TZOFFSETFROM:-0500
TZOFFSETTO:-0400
TZNAME:EDT
DTSTART:20260308T070000
END:DAYLIGHT
BEGIN:STANDARD
TZOFFSETFROM:-0400
TZOFFSETTO:-0500
TZNAME:EST
DTSTART:20261101T060000
END:STANDARD
BEGIN:DAYLIGHT
TZOFFSETFROM:-0500
TZOFFSETTO:-0400
TZNAME:EDT
DTSTART:20270314T070000
END:DAYLIGHT
BEGIN:STANDARD
TZOFFSETFROM:-0400
TZOFFSETTO:-0500
TZNAME:EST
DTSTART:20271107T060000
END:STANDARD
BEGIN:DAYLIGHT
TZOFFSETFROM:-0500
TZOFFSETTO:-0400
TZNAME:EDT
DTSTART:20280312T070000
END:DAYLIGHT
BEGIN:STANDARD
TZOFFSETFROM:-0400
TZOFFSETTO:-0500
TZNAME:EST
DTSTART:20281105T060000
END:STANDARD
END:VTIMEZONE
BEGIN:VEVENT
DTSTART;VALUE=DATE:20260501
DTEND;VALUE=DATE:20260601
DTSTAMP:20260419T134327
CREATED:20250929T201022Z
LAST-MODIFIED:20251217T140610Z
UID:2801-1777593600-1780271999@www.mspoultry.org
SUMMARY:Poultry Processor Workshop
DESCRIPTION:May – Date/Location TBD
URL:https://www.mspoultry.org/event_se/poultry-processor-workshop/
CATEGORIES:National Poultry Events
END:VEVENT
BEGIN:VEVENT
DTSTART;TZID=America/New_York:20260519T130000
DTEND;TZID=America/New_York:20260520T150000
DTSTAMP:20260419T134327
CREATED:20251217T174601Z
LAST-MODIFIED:20260417T182313Z
UID:3005-1779195600-1779289200@www.mspoultry.org
SUMMARY:MPA Poultry Management School
DESCRIPTION:The MPA Poultry Management School will be held May 19–20\, 2026\, at MSU (240 Wise Center Drive\, Mississippi State\, MS). For event location information\, please click HERE! Make plans now to attend this two-day event filled with valuable educational opportunities\, networking\, and good times.  The annual Allied Member Crawfish Boil will once again be held at The Poor House (1581 W. Poor House Rd.\, Starkville\, MS 39759).  For additional information on sponsorship opportunities or booth availability\, please click HERE! This course has been approved by RACE & PAACO for 6.75 hours of continuing educational credit. \n \n  \nMSU Parking Reservations \nMust Reserve Free Campus Space. Please use the following QR Code to register for parking for MPA Poultry Management School. Enter your license plate number to register. You do not need a physical permit/decal. \n \n  \nThank you sponsors for making this event possible!\nBreakfast Sponsors:\n \nBreak Sponsors:\n \n\n\n  \n\nLunch Sponsors:\n \n  \n  \n  \nBus Sponsors:\n \n\n\n\n  \nAllied Dinner Sponsors:\n \n  \n \n  \n  \n  \n  \n  \nBook Your Hotel Early!\nFor hotel accommodations please visit the links below. Transportation to the Allied crawfish dinner will pick up and drop off at the hotels below. \nCourtyard by Marriott – Last day to book at group rates: April 20th\, 2026. \nHampton by Hilton – Last day to book at group rates: April 18th\, 2026. \nHilton Garden Inn – Last day to book at group rates: April 24th\, 2026. \nLaQuinta by Wyndham – Last day to book at group rates: April 20th\, 2026. \n  \n \nOrder your Event T-Shirt\nThis year\, we’re offering a Comfort Colors event T-shirt during registration. Shirts will be ordered based on confirmed purchases only\, so we won’t have extras on hand. If you’d like to purchase shirts for additional team members or employees\, please email martin@mspoultry.org and we’ll send a custom invoice. The deadline to order T-shirts is April 27\, 2026. \n\n  \nRegister to Attend Management School\nPlease enable JavaScript in your browser to complete this form.Company Name *Phone *Email Address to Receive Confirmation *Sponsorship OpportunitiesFor additional information on sponsorship opportunities contact Beca at: 601-932-7560 or visit us online: www.mspoultry.org. Additional opportunities for visibility: Sponsor Allied Member Dinner - $300.00Booth (Approximately 10' x10') - $100.00Gift Card Giveaway - $50.00Table (Must reserve booth to reserve table.) - $20.00Breakfast Sponsor - $500.00Chair (Must reserve booth to reserve chair.) - $10.00Break Sponsor - $500.00Power Access (Must reserve booth to reserve power.) - $20.00Bus Sponsor - $500.00Registrant 01Registrant's Name - 01FirstLastEmail for Registrant - 01Member Category - 01Sponsorship Only-DOES NOT include registration. - $0.00Allied Member - $150.00Non-Allied Member - $175.00Integrator Member - $150.00Grower Member - $0.00MSU Employee/Student - $0.00MPA Guest - $0.00Does Registrant 01 want an event T-shirt?NoYes\n				T-Shirts\n			If you would like to purchase more than 4 T-Shirts\, please email: martin@mspoultry.org for a custom invoice. Shirt Size (Registrant 01)None - $0.00Small - $25.00Medium - $25.00Large - $25.00X-Large - $25.002X-Large - $30.003X-Large - $30.00Is Registrant 01 attending the Allied Member dinner?NoYesWill Registrant 01 ride the bus?NoYesIs Registrant 01 arriving for lunch on May 19th?NoYesIs Registrant 01 staying for lunch on May 20th? NoYesWill you be adding another registrant? - 01NoYesRegistrant 02Registrant's Name - 02FirstLastEmail for Registrant - 02Member Category - 02Sponsorship Only-ONLY IF NOT ATTENDING - $0.00Allied Member - $150.00Non-Allied Member - $175.00Integrator Member - $150.00Grower Member - $0.00MSU Employee/Student - $0.00MPA Guest - $0.00Does Registrant 02 want an event T-shirt? *NoYes\n				T-Shirts \n			If you would like to purchase multiple t-shirts\, please email: martin@mspoultry.org for a custom invoice. Shirt #1None - $0.00Small - $25.00Medium - $25.00Large - $25.00X-Large - $25.002X-Large - $30.003X-Large - $30.00Is Registrant 02 attending the Allied Member dinner? *NoYesWill Registrant 02 ride the bus?NoYesIs Registrant 02 arriving for lunch on May 19th?NoYesIs Registrant 02 staying for lunch on May 20th?NoYesWill you be adding another registrant? - 02NoYesRegistrant 03Registrant's Name - 03FirstLastEmail for Registrant - 03Member Category - 03Sponsorship Only-ONLY IF NOT ATTENDINGAllied MemberNon-Allied MemberIntegrator MemberGrower MemberMSU Employee/StudentMPA GuestDoes Registrant 03 want an event T-shirt?NoYes\n				T-Shirts\n			If you would like to purchase multiple t-shirts\, please email: martin@mspoultry.org for a custom invoice. Shirt #1None - $0.00Small - $25.00Medium - $25.00Large - $25.00X-Large - $25.002X-Large - $30.003X-Large - $30.00Is Registrant 03 attending the Allied Member dinner?NoYesWill Registrant 03 ride the bus?NoYesIs Registrant 03 arriving for lunch on May 19th?NoYesIs Registrant 03 staying for lunch on May 20th?NoYesTotal\n	\n		Order Summary\n		\n			\n				Item\n				\n					Quantity\n					Qty\n				\n				Total\n			\n		\n		\n			\n				There are no products selected.\n			\n			Sponsor Allied Member Dinner1$300.00Booth (Approximately 10' x10')1$100.00Gift Card Giveaway1$50.00Table (Must reserve booth to reserve table.)1$20.00Breakfast Sponsor1$500.00Chair (Must reserve booth to reserve chair.)1$10.00Break Sponsor1$500.00Power Access (Must reserve booth to reserve power.)1$20.00Bus Sponsor1$500.00Member Category - 01 - Sponsorship Only-DOES NOT include registration.1$0.00Member Category - 01 - Allied Member1$150.00Member Category - 01 - Non-Allied Member1$175.00Member Category - 01 - Integrator Member1$150.00Member Category - 01 - Grower Member1$0.00Member Category - 01 - MSU Employee/Student1$0.00Member Category - 01 - MPA Guest1$0.00Shirt Size (Registrant 01) - None1$0.00Shirt Size (Registrant 01) - Small1$25.00Shirt Size (Registrant 01) - Medium1$25.00Shirt Size (Registrant 01) - Large1$25.00Shirt Size (Registrant 01) - X-Large1$25.00Shirt Size (Registrant 01) - 2X-Large1$30.00Shirt Size (Registrant 01) - 3X-Large1$30.00Member Category - 02 - Sponsorship Only-ONLY IF NOT ATTENDING1$0.00Member Category - 02 - Allied Member1$150.00Member Category - 02 - Non-Allied Member1$175.00Member Category - 02 - Integrator Member1$150.00Member Category - 02 - Grower Member1$0.00Member Category - 02 - MSU Employee/Student1$0.00Member Category - 02 - MPA Guest1$0.00Shirt #1 - None1$0.00Shirt #1 - Small1$25.00Shirt #1 - Medium1$25.00Shirt #1 - Large1$25.00Shirt #1 - X-Large1$25.00Shirt #1 - 2X-Large1$30.00Shirt #1 - 3X-Large1$30.00Member Category - 03 - Sponsorship Only-ONLY IF NOT ATTENDING1$0.00Member Category - 03 - Allied Member1$150.00Member Category - 03 - Non-Allied Member1$175.00Member Category - 03 - Integrator Member1$150.00Member Category - 03 - Grower Member1$0.00Member Category - 03 - MSU Employee/Student1$0.00Member Category - 03 - MPA Guest1$0.00Shirt #1 - None1$0.00Shirt #1 - Small1$25.00Shirt #1 - Medium1$25.00Shirt #1 - Large1$25.00Shirt #1 - X-Large1$25.00Shirt #1 - 2X-Large1$30.00Shirt #1 - 3X-Large1$30.00Are you paying by Credit Card Online\, or Mailing in a check? (If a custom invoice is required\, email: martin@mspoultry.org) - Credit Card1$0.00Are you paying by Credit Card Online\, or Mailing in a check? (If a custom invoice is required\, email: martin@mspoultry.org) - Mail Check1$0.00Are you paying by Credit Card Online\, or Mailing in a check? (If a custom invoice is required\, email: martin@mspoultry.org) - No Balance Due1$0.00SubtotalTotal$0.00		\n	\n\n$0.00Are you paying by Credit Card Online\, or Mailing in a check? (If a custom invoice is required\, email: martin@mspoultry.org) *--- Select Choice ---Credit CardMail CheckNo Balance DueSelect the "Mail Check" option if you wish to pay registration fees via check and forego the online payment process. \n\nMail checks (include registrants’ names) to: \nMPA \n110 Airport Road South \nSuite C\nPearl MS 39208Registration & Payment Date / Time *DateTimeSquare *CardName on CardCustom Captcha *			\n				\n											\n						\n						\n											=\n				\n								\n				\n				\n			\n			Submit  \n 
URL:https://www.mspoultry.org/event_se/mpa-poultry-management-school/
LOCATION:MSU Poultry Science\, 325 Wise Center Drive\, Starkville\, MS\, 39759\, United States
CATEGORIES:MPA Events
ORGANIZER;CN="MPA":MAILTO:fortenberry@mspoultry.org
END:VEVENT
BEGIN:VEVENT
DTSTART;VALUE=DATE:20260630
DTEND;VALUE=DATE:20260703
DTSTAMP:20260419T134327
CREATED:20250929T201130Z
LAST-MODIFIED:20251217T140604Z
UID:2803-1782777600-1783036799@www.mspoultry.org
SUMMARY:Financial Management Seminar
DESCRIPTION:
URL:https://www.mspoultry.org/event_se/financial-management-seminar/
CATEGORIES:National Poultry Events
END:VEVENT
BEGIN:VEVENT
DTSTART;VALUE=DATE:20260708
DTEND;VALUE=DATE:20260710
DTSTAMP:20260419T134327
CREATED:20250929T201434Z
LAST-MODIFIED:20251217T140557Z
UID:2805-1783468800-1783641599@www.mspoultry.org
SUMMARY:Hatchery Breeder Clinic
DESCRIPTION:
URL:https://www.mspoultry.org/event_se/hatchery-breeder-clinic/
LOCATION:Embassy Suites Downtown Nashville\, TN
CATEGORIES:National Poultry Events
END:VEVENT
BEGIN:VEVENT
DTSTART;TZID=America/New_York:20260805T080000
DTEND;TZID=America/New_York:20260805T150000
DTSTAMP:20260419T134327
CREATED:20251217T164256Z
LAST-MODIFIED:20260406T160545Z
UID:3015-1785916800-1785942000@www.mspoultry.org
SUMMARY:MPA Breeder Hatchery Seminar
DESCRIPTION:The Mississippi Poultry Association Breeder Hatchery Seminar will be held at the Thames Center at Copiah-Lincoln Community College in Wesson\, MS. Registration is FREE—simply complete the form below to attend. \nThis seminar will be both RACE and PAACO accredited. Attendees seeking continuing education credits should indicate their preference on the registration form. For agenda details\, please click HERE. For additional information on sponsorship opportunities or booth availability\, please click HERE. \nRegister to Attend Management School\nPlease enable JavaScript in your browser to complete this form.First Name *Last Name *Company *Email *Registration Category *Integrator Member/EmployeeGrower MemberAllied MemberMSU Employee/StudentMBAHUSDASpeakerNon-MemberSponsorship ONLY (NOT ATTENDING! Will not be registered!)Phone *Continuing EducationDo you want continuing education credits reported? *No\, I do not want continuing education credits.Yes\, please report my attendance PAACO for continuing education credits.Yes\, please report my attendance RACE & PAACO for continuing education credits.Yes\, please report my attendance RACE for continuing education credits.License NumberEnter Continuing Education License # for RACE credits for this seminar.License StateEnter the state the Continuing Education RACE License is registered in. Become a Sponsor!All sponsors will have their logo printed in the seminar agenda. Seminar sponsors will also have a digital acknowledgement at the seminar. Checkbox Items2026 Breeder Hatchery Sponsor - $250.00Gift Card Give-Away - $50.00Total$0.00Will you be mailing a check or using square? *No Payment NecessaryMailing a CheckPaying through SquareIf mailing a check\, please mail to: MS Poultry Association\, 110 S Airport Road\, Suite C\, Pearl\, MS 39208Date / Time *DateTimeSquare *CardName on CardCustom Captcha *			\n				\n											\n						\n						\n											=\n				\n								\n				\n				\n			\n			Paragraph TextSubmit
URL:https://www.mspoultry.org/event_se/mpa-breeder-hatchery-seminar/
LOCATION:Thames Center @ Copiah-Lincoln\, 1028 JC Redd Drive\, Wesson\, MS\, 39191
CATEGORIES:MPA Events
ORGANIZER;CN="MPA":MAILTO:fortenberry@mspoultry.org
END:VEVENT
BEGIN:VEVENT
DTSTART;VALUE=DATE:20260817
DTEND;VALUE=DATE:20260820
DTSTAMP:20260419T134327
CREATED:20250929T201652Z
LAST-MODIFIED:20251217T140538Z
UID:2808-1786924800-1787183999@www.mspoultry.org
SUMMARY:National Safety Conference for the Poultry Industry
DESCRIPTION:
URL:https://www.mspoultry.org/event_se/national-safety-conference-for-the-poultry-industry/
LOCATION:Hilton Sandestin Beach Golf Resort & Spa Destin\, Florida
CATEGORIES:National Poultry Events
END:VEVENT
BEGIN:VEVENT
DTSTART;VALUE=DATE:20260820
DTEND;VALUE=DATE:20260822
DTSTAMP:20260419T134327
CREATED:20250929T201817Z
LAST-MODIFIED:20251217T140528Z
UID:2810-1787184000-1787356799@www.mspoultry.org
SUMMARY:Women's Leadership Conference
DESCRIPTION:
URL:https://www.mspoultry.org/event_se/womens-leadership-conference/
LOCATION:Hilton Sandestin Beach Golf Resort & Spa Destin\, Florida
CATEGORIES:National Poultry Events
END:VEVENT
BEGIN:VEVENT
DTSTART;VALUE=DATE:20260917
DTEND;VALUE=DATE:20260921
DTSTAMP:20260419T134327
CREATED:20251217T193156Z
LAST-MODIFIED:20260415T204559Z
UID:3069-1789603200-1789948799@www.mspoultry.org
SUMMARY:MPA Annual Convention
DESCRIPTION:Join us for the 89th Annual Mississippi Poultry Association Convention—a chance to reconnect\, recharge\, and spend time with the people who keep our industry moving. Whether you’ve been coming for years or it’s your first time\, the convention offers a laid-back mix of networking\, industry updates\, and time to enjoy the coast. It’s a familiar tradition for many—and a great opportunity for new faces to jump in and be part of it. If you would like more information on becoming an event sponsor HERE! \nWhere to Stay\nBook your room and register early—our room block fills up quickly. We’ve secured a discounted rate at The Hilton Sandestin Report in Miramar Beach\, FL just for MPA attendees until August 17th\, 2026. Book your stay HERE!!! \nBecome a Sponsor\nThere are several ways to get involved as a Convention sponsor\, including selecting sponsorships during registration or contributing branded items for the Integrator Registration Gift Bags. If you’d like to include an item\, complete the Google Form HERE to submit your details and use the Pledged Item link HERE to view other donated items and track receipt status. Items must arrive at the MPA office in Pearl\, MS by September 4\, 2026. We need 75 pieces to include one in every bag—if fewer are received\, items will be distributed at random and we can’t guarantee delivery to specific integrators. Donor names will be included on a gift sponsor sheet in each bag. If you have questions\, call the office or email mpa@mspoultry.org.  \nThank you to our Sponsors\nPlatinum Sponsors\n\n  \n  \nDiamond Sponsors\n \n  \n  \n  \nGold Sponsors\n \n\n  \nSilver Sponsors\n \n  \n\nBronze Sponsors\n \n\n\n\nAuction & Giving Back\nThe Convention Auction supports the Mississippi Poultry Foundation Scholarship Program\, helping invest in the next generation of our industry. You can participate by sponsoring an auction item during registration (look for “Sponsor an Auction Item”)\, having MPA purchase and manage an item on your behalf\, shipping or delivering an item to the MPA office\, or bringing it with you to Convention. \nIf you plan to send or bring an item\, please email mpa@mspoultry.org with the item name\, a link with description\, photos of the item\, and how you would like the donor listed. If a link isn’t available\, photos of the actual item are required. This information is needed to properly list your item in Handbid. Items being shipped or delivered to MPA must arrive no later than September 4\, 2026 for transport to Convention. Every contribution—large or small—helps support students pursuing careers in the poultry industry. \nIf you’re looking for ideas\, some of our most successful auction items have included experiences like beach or weekend getaways\, fishing charters\, hunting trips\, and golf packages\, along with outdoor items such as coolers\, grills\, and tailgating gear. Sports tickets\, concert experiences\, branded or themed gift packages\, jewelry\, electronics\, and food or beverage bundles also tend to do well. These are simply suggestions—any contribution is appreciated\, and a variety of items helps make the auction more engaging and successful. \nPlan Your Schedule\n \n  \nRegister to Attend\nPlease enable JavaScript in your browser to complete this form.Company Name *Email Address for Confirmation *Member Type *Formula/Allied Member Single - $375.00Formula/Allied Member Couple - $375.00Non-Member Single - $475.00Non-Member Couple - $475.00Grower Member Single - $50.00Grower Member Couple - $50.00MSU/MDAC Employee Single - $100.00MSU/MDAC Employee Couple - $100.00MPA Single Guest - $0.00MPA Guest & Spouse - $0.00Sponsorship ONLY (Registration not included) - $0.00Name *FirstLastSpouse's Name  *FirstLastPhone *Spouse PhoneEmail *2026 Convention T-Shirt\nAll registered attendees will receive a t-shirt. If you would like to purchase additional shirts\, please select the desired quantities and sizes below. (Click the image to view a larger proof.) \nT-Shirt Size *SMMLGXL2XL3XL4XL5XLSpouse T-Shirt Size *SMMLGXL2XL3XL4XL5XLAdditional T-ShirtsNone - $0.001 T-Shirt - $20.002 T-Shirts - $40.003 T-Shirts - $60.004 T-Shirts - $80.005 T-Shirts - $100.006 T-Shirts - $120.007 T-Shirts - $140.008 T-Shirts - $160.001st Additional T-Shirt Size *SMMLGXL2XL3XL4XL5XL1st Additional T-Shirt Size5th Additional T-Shirt Size *SMMLGXL2XL3XL4XL5XL5th Additional T-Shirt Size2nd Additional T-Shirt Size *SMMLGXL2XL3XL4XL5XL2nd Additional T-Shirt Size6th Additional T-Shirt Size *SMMLGXL2XL3XL4XL5XL6th Additional T-Shirt Size3rd Additional T-Shirt Size *SMMLGXL2XL3XL4XL5XL3rd Additional T-Shirt Size7th Additional T-Shirt Size *SMMLGXL2XL3XL4XL5XL7th Additional T-Shirt Size4th Additional T-Shirt Size *SMMLGXL2XL3XL4XL5XL4th Additional T-Shirt Size8th Additional T-Shirt Size *SMMLGXL2XL3XL4XL5XL8th Additional T-Shirt SizePlatinum Sponsor's Cocktail HourThursday\, September 17th\, 2026Reception NONo\, will NOT attend.Reception Self OnlyYes\, I will attend.Reception Self & SpouseYes\, my spouse and I will attend.Activity OptionsPlease remember golf and fishing tournaments are conducted simultaneously. Activities *NoneLadies ProgramGolf TournamentFishing TournamentLadies' Program - Sponsored by Cobb-Vantress\, Inc.\, DSM Nutrition\, Huvepharma\, and Jones-HamiltonSpouse AttendingThis generously sponsored event is reserved for spouses of attendees and will take place during the business meeting. Building on last year’s floral theme\, we’re taking it a step further with a hands-on “market to vase” experience designed to elevate your skills. The session will begin in a market-style setting\, guiding you through selecting florals and transforming them into a finished arrangement.\n\nAs materials are prepared in advance\, please register by August 14th to participate. For questions\, contact our office—we are happy to assist.Golf Tournament - Sponsored by International Paper Company & McNeely PlasticsGolf1 Individual - $175.002  Individuals - $350.003 Individuals - $525.004 Individuals/Team - $700.00Should you need to pay for additional participants/teams\, please call our office and we will be happy to assist. Golf registration MUST BE submitted by August 14th\, 2026.Mulligans0 - $0.004 - $25.008 - $50.0016 - $100.00Feel free to purchase as many mulligans to share as you would like. However\, in effort to manage time\, only 4 mulligans may be used per person. An individual may use 2 on holes 1-9 and 2 on holes 10-18. Sponsor a Tee on the Golf Course!Do not wish to sponsor. - $0.001 Tee - $200.002 Tees - $400.003 Tee - $600.004 Tees - $800.00Proudly display your company logo at the sponsored tee. We will provide the signage and course setup.   \n				Golf Player Information\n			To gift tournament entries\, enter the player(s) information or enter "TBD" for any player(s) not yet selected.  All player information must be submitted to mpa@mspoultry.org no later than 8/14/24. Player 1 NamePlayer 2 NamePlayer 3 NamePlayer 4 NameCompanyCompanyCompanyCompanyEmailEmailEmailEmailTeam Preferences Please list up to four team members name and company you would like to be teamed with. We will do our best to accommodate as many as we can\, but we cannot guarantee preferred placement. Fishing Charter Experience - TournamentSpend time on the water during our annual fishing tournament while experienced captains handle the details for you. This guided charter experience offers a great opportunity to enjoy the Gulf and connect with fellow attendees.\n\nThis year the NOAA has extended the season for several unique species (https://myfwc.com/fishing/saltwater/recreational/). So bring your cooler or let Destin Ice House (850-837-8333) ship your cleaned catch home for you!\n\nLunch will be provided by our sponsors at International Paper\, with coolers and beverages provided by Cumberland and QC Supply.\n\nThe tournament will depart from Destin's Fishing Fleet Marina\, located behind Brotula's Seafood House & Steamer (210 Harbor Blvd\, Destin\, FL 32541).\n\nWe are currently finalizing vessels and charter details with our partners at Action Fishing Charters. Participants are encouraged to reserve fishing spots during registration. Once details are confirmed\, all registered participants will be notified via email and invited to assign attendees to their reserved spots and select their preferred vessel type.  \n\nBoat selection will be first-come\, first-served\, and  vessel details—including capacity and amenities—will be provided prior to selection.\n\nImportant Notes:\n\nAny fishing registrations after August 14th will be subject to availability. Fishing 1 Individual - $250.002  Individuals - $500.003 Individuals - $750.004 Individuals - $1\,000.006 Individuals/Team - $1\,750.00Should you need to pay for additional participants or would like to sponsor a vessel/team\, please email: martin@mspoultry or mpa@mspoultry.org to request a custom invoice.  Fisher 1 NameFisher 4 NameFisher 2 NameFisher 5 NameFisher 3 NameFishing Team PreferencesPlease list the name and companies of the tournament participant(s) you would like to be paired with. We will do our best to accommodate requests; however\, preferred placement is not guaranteed.Sponsor a Foundation Auction Item! *No\, I will not be contributing this year.Yes\, MPA please purchase and transport an item to the auction on my behalf in the amount donated below.Yes\, I will purchase and deliver to MPA office by Aug. 28thYes\, I will purchase and deliver to convention registration on Thursday\, Sept. 17th.The auction is a key part of our convention and directly supports the Mississippi Poultry Foundation Scholarship Program\, helping invest in the next generation of industry leaders. Even a small donation can make a meaningful difference in a student’s education and career.\n\nPlease indicate your selection above and the amount in the field below\, then email the item details along with any images or purchase links to mpa@mspoultry.org so we can coordinate your contribution and prepare the Handbid listing. Foundation Auction Item Donation AmountMinimum Price: $100.00Become a Convention Sponsor! *NoYes2025 Convention Sponsorship Levels\n\nDonation AmountMinimum Price: $100.00Late RegistrationAre you paying by credit card online or mailing in a check? *Credit CardMail CheckSend Direct InvoiceSelect the "Mail Check" option if you wish to pay registration fees via check and forego the online payment process. \n\nMail checks (include registrants’ names) to: \nMPA \n110 Airport Road South \nSuite C\nPearl MS 39208. \n\nPlease select "Send Direct Invoice" if you would like an invoice with a direct payment link emailed to you. CheckoutReceipts are generated immediately after you click the register button. Please take a moment to print for your records. Total$0.00Date / Time *DateTimeSquare *CardName on CardRegister
URL:https://www.mspoultry.org/event_se/mpa-annual-convention/
LOCATION:Hilton Sandestin Beach Golf Resort & Spa Destin\, Florida
CATEGORIES:MPA Events
ORGANIZER;CN="MPA":MAILTO:fortenberry@mspoultry.org
END:VEVENT
BEGIN:VEVENT
DTSTART;VALUE=DATE:20260917
DTEND;VALUE=DATE:20260919
DTSTAMP:20260419T134327
CREATED:20250929T202053Z
LAST-MODIFIED:20251217T140514Z
UID:2814-1789603200-1789775999@www.mspoultry.org
SUMMARY:Environmental Management Seminar
DESCRIPTION:
URL:https://www.mspoultry.org/event_se/environmental-management-seminar/
LOCATION:Hilton Sandestin Beach Golf Resort & Spa Destin\, Florida
CATEGORIES:National Poultry Events
END:VEVENT
BEGIN:VEVENT
DTSTART;VALUE=DATE:20260923
DTEND;VALUE=DATE:20260925
DTSTAMP:20260419T134327
CREATED:20250929T201954Z
LAST-MODIFIED:20251217T140505Z
UID:2812-1790121600-1790294399@www.mspoultry.org
SUMMARY:Live Production Welfare & Biosecurity Seminar
DESCRIPTION:
URL:https://www.mspoultry.org/event_se/live-production-welfare-biosecurity-seminar/
LOCATION:Embassy Suites Downtown Nashville\, TN
CATEGORIES:National Poultry Events
END:VEVENT
BEGIN:VEVENT
DTSTART;VALUE=DATE:20261008
DTEND;VALUE=DATE:20261010
DTSTAMP:20260419T134327
CREATED:20250929T202137Z
LAST-MODIFIED:20251217T140451Z
UID:2816-1791417600-1791590399@www.mspoultry.org
SUMMARY:Poultry Protein & Fat Seminar
DESCRIPTION:
URL:https://www.mspoultry.org/event_se/poultry-protein-fat-seminar/
LOCATION:Embassy Suites Downtown Nashville\, TN
CATEGORIES:National Poultry Events
END:VEVENT
BEGIN:VEVENT
DTSTART;VALUE=DATE:20270311
DTEND;VALUE=DATE:20270313
DTSTAMP:20260419T134327
CREATED:20250929T202954Z
LAST-MODIFIED:20251217T140442Z
UID:2820-1804723200-1804895999@www.mspoultry.org
SUMMARY:Feed Mill Management Seminar
DESCRIPTION:
URL:https://www.mspoultry.org/event_se/feed-mill-management-seminar-2/
LOCATION:Embassy Suites Downtown Nashville\, TN
CATEGORIES:National Poultry Events
END:VEVENT
BEGIN:VEVENT
DTSTART;VALUE=DATE:20270816
DTEND;VALUE=DATE:20270819
DTSTAMP:20260419T134327
CREATED:20250929T203339Z
LAST-MODIFIED:20251217T140306Z
UID:2826-1818374400-1818633599@www.mspoultry.org
SUMMARY:National Safety Conference for the Poultry Industry
DESCRIPTION:
URL:https://www.mspoultry.org/event_se/national-safety-conference-for-the-poultry-industry-2/
LOCATION:Hilton Sandestin Beach Golf Resort & Spa Destin\, Florida
CATEGORIES:National Poultry Events
END:VEVENT
BEGIN:VEVENT
DTSTART;VALUE=DATE:20270819
DTEND;VALUE=DATE:20270821
DTSTAMP:20260419T134327
CREATED:20250929T203428Z
LAST-MODIFIED:20251217T140259Z
UID:2828-1818633600-1818806399@www.mspoultry.org
SUMMARY:Women's Leadership Conference
DESCRIPTION:
URL:https://www.mspoultry.org/event_se/womens-leadership-conference-2/
LOCATION:Hilton Sandestin Beach Golf Resort & Spa Destin\, Florida
CATEGORIES:National Poultry Events
END:VEVENT
BEGIN:VEVENT
DTSTART;VALUE=DATE:20270901
DTEND;VALUE=DATE:20270930
DTSTAMP:20260419T134327
CREATED:20250929T203535Z
LAST-MODIFIED:20251217T140239Z
UID:2830-1819756800-1822262399@www.mspoultry.org
SUMMARY:Live Production\, Welfare & Biosecurity Seminar
DESCRIPTION:Date/Location TBD
URL:https://www.mspoultry.org/event_se/live-production-welfare-biosecurity-seminar-2/
CATEGORIES:National Poultry Events
END:VEVENT
BEGIN:VEVENT
DTSTART;VALUE=DATE:20270916
DTEND;VALUE=DATE:20270918
DTSTAMP:20260419T134327
CREATED:20250929T205000Z
LAST-MODIFIED:20251217T140228Z
UID:2836-1821052800-1821225599@www.mspoultry.org
SUMMARY:Environmental Management Seminar
DESCRIPTION:
URL:https://www.mspoultry.org/event_se/environmental-management-seminar-2/
LOCATION:Hilton Sandestin Beach Golf Resort & Spa Destin\, Florida
CATEGORIES:National Poultry Events
END:VEVENT
BEGIN:VEVENT
DTSTART;VALUE=DATE:20271014
DTEND;VALUE=DATE:20271016
DTSTAMP:20260419T134327
CREATED:20250929T203716Z
LAST-MODIFIED:20251217T140216Z
UID:2834-1823472000-1823644799@www.mspoultry.org
SUMMARY:Poultry Protein & Fat Seminar
DESCRIPTION:
URL:https://www.mspoultry.org/event_se/poultry-protein-fat-seminar-2/
LOCATION:Embassy Suites Downtown Nashville\, TN
CATEGORIES:National Poultry Events
END:VEVENT
END:VCALENDAR